BEGIN:VCALENDAR
VERSION:2.0
PRODID:-//wp-events-plugin.com//7.2.3.1//EN
TZID:Europe/Berlin
X-WR-TIMEZONE:Europe/Berlin
BEGIN:VEVENT
UID:290@blog.rvweser.de
DTSTART;TZID=Europe/Berlin:20260523T000000
DTEND;TZID=Europe/Berlin:20260524T000000
DTSTAMP:20251117T180211Z
URL:https://blog.rvweser.de/termine/59-otterndorfer-ruderregatta-jungen-un
 d-maedchen-regatta/
SUMMARY:59. Otterndorfer Ruderregatta/Jungen- und Mädchen-Regatta
DESCRIPTION:
ATTACH;FMTTYPE=image/jpeg:https://blog.rvweser.de/wp-content/uploads/2023/
 01/Symbolbild-Regatta-Kalender.png
CATEGORIES:Regatten
LOCATION:TSV Otterndorf\, Beufleth 3 \, Otterndorf\, 21762\, Deutschland
X-APPLE-STRUCTURED-LOCATION;VALUE=URI;X-ADDRESS=Beufleth 3 \, Otterndorf\, 
 21762\, Deutschland;X-APPLE-RADIUS=100;X-TITLE=TSV Otterndorf:geo:0,0
END:VEVENT
BEGIN:VTIMEZONE
TZID:Europe/Berlin
X-LIC-LOCATION:Europe/Berlin
BEGIN:DAYLIGHT
DTSTART:20260329T030000
TZOFFSETFROM:+0100
TZOFFSETTO:+0200
TZNAME:CEST
END:DAYLIGHT
END:VTIMEZONE
END:VCALENDAR