BEGIN:VCALENDAR
VERSION:2.0
PRODID:-//wp-events-plugin.com//7.2.3.1//EN
TZID:Europe/Berlin
X-WR-TIMEZONE:Europe/Berlin
BEGIN:VEVENT
UID:280@blog.rvweser.de
DTSTART;TZID=Europe/Berlin:20260328T093000
DTEND;TZID=Europe/Berlin:20260328T130000
DTSTAMP:20260317T092935Z
URL:https://blog.rvweser.de/termine/fruehjahrsputz/
SUMMARY:FRÜHJAHRS-REINIGUNGSAKTION AM BOOTSHAUS
DESCRIPTION:Auch in diesem Frühjahr wollen wir unser Bootshaus und die Au
 ßenanlagen wieder auf Hochglanz bringen.\n\nBitte kommt zahlreich getreu 
 dem Motto „Viele Hände – schnelles Ende?&nbsp\;mit den entsprechenden
  Utensilien ausgestattet\, um das Bootshaus und die Außenanlagen fit für
  den Start in die neue Rudersaison zu machen.\n\nFür Getränke und eine S
 tärkung ist gesorgt.\n\nWer an dem Tag keine Zeit hat und trotzdem helfen
  möchte\, wendet sich bitte direkt an hauswart@rvweser.de\n\nWir freuen u
 ns auf eure Unterstützung!!!\n\nDie Hauswarte\nThomas Burgdorf und Frank 
 Clodius
ATTACH;FMTTYPE=image/jpeg:https://blog.rvweser.de/wp-content/uploads/2023/
 01/Symbolbild-Kalender-Schulung-Arbeitsdienst.jpg
CATEGORIES:sonstige
END:VEVENT
BEGIN:VTIMEZONE
TZID:Europe/Berlin
X-LIC-LOCATION:Europe/Berlin
BEGIN:STANDARD
DTSTART:20251026T020000
TZOFFSETFROM:+0200
TZOFFSETTO:+0100
TZNAME:CET
END:STANDARD
END:VTIMEZONE
END:VCALENDAR