BEGIN:VCALENDAR
VERSION:2.0
PRODID:-//wp-events-plugin.com//7.2.3.1//EN
TZID:Europe/Berlin
X-WR-TIMEZONE:Europe/Berlin
BEGIN:VEVENT
UID:301@blog.rvweser.de
DTSTART;TZID=Europe/Berlin:20260425T000000
DTEND;TZID=Europe/Berlin:20260426T000000
DTSTAMP:20260116T170919Z
URL:https://blog.rvweser.de/termine/internationale-drv-junioren-regatta-mu
 enchen/
SUMMARY:Internationale DRV-Junioren-Regatta München
DESCRIPTION:
ATTACH;FMTTYPE=image/jpeg:https://blog.rvweser.de/wp-content/uploads/2023/
 01/Symbolbild-Regatta-Kalender.png
CATEGORIES:Regatten
LOCATION:Regatta München\, Dachauer Str. 35\, München\, 85764\, Deutschla
 nd
X-APPLE-STRUCTURED-LOCATION;VALUE=URI;X-ADDRESS=Dachauer Str. 35\, München
 \, 85764\, Deutschland;X-APPLE-RADIUS=100;X-TITLE=Regatta München:geo:0,0
END:VEVENT
BEGIN:VTIMEZONE
TZID:Europe/Berlin
X-LIC-LOCATION:Europe/Berlin
BEGIN:DAYLIGHT
DTSTART:20260329T030000
TZOFFSETFROM:+0100
TZOFFSETTO:+0200
TZNAME:CEST
END:DAYLIGHT
END:VTIMEZONE
END:VCALENDAR