BEGIN:VCALENDAR
VERSION:2.0
PRODID:-//wp-events-plugin.com//7.2.3.1//EN
TZID:Europe/Berlin
X-WR-TIMEZONE:Europe/Berlin
BEGIN:VEVENT
UID:255@blog.rvweser.de
DTSTART;TZID=Europe/Berlin:20260523T000000
DTEND;TZID=Europe/Berlin:20260524T000000
DTSTAMP:20251004T102333Z
URL:https://blog.rvweser.de/termine/koelner-junioren-regatta-2026/
SUMMARY:Kölner Junioren-Regatta 2026
DESCRIPTION:
ATTACH;FMTTYPE=image/jpeg:https://blog.rvweser.de/wp-content/uploads/2023/
 01/Symbolbild-Regatta-Kalender.png
CATEGORIES:Regatten
LOCATION:Regattabahn Köln-Fühlingen\, Oranjehofstraße 101\, Köln\, 5076
 9\, Deutschland
X-APPLE-STRUCTURED-LOCATION;VALUE=URI;X-ADDRESS=Oranjehofstraße 101\, Köl
 n\, 50769\, Deutschland;X-APPLE-RADIUS=100;X-TITLE=Regattabahn Köln-Fühl
 ingen:geo:0,0
END:VEVENT
BEGIN:VTIMEZONE
TZID:Europe/Berlin
X-LIC-LOCATION:Europe/Berlin
BEGIN:DAYLIGHT
DTSTART:20260329T030000
TZOFFSETFROM:+0100
TZOFFSETTO:+0200
TZNAME:CEST
END:DAYLIGHT
END:VTIMEZONE
END:VCALENDAR